BEGIN:VCALENDAR
VERSION:2.0
PRODID:-//eventon.com NONSGML v1.0//EN
CALSCALE:GREGORIAN
METHOD:PUBLISH
BEGIN:VEVENT
UID:69e750791dd3f
DTSTAMP:20260421T102457Z
DTSTART:20190327T000000Z
DTEND:20190327T045000Z
LOCATION:Steves Homestead River House 509 King William
SUMMARY:Lecture: Germans In San Antonio: What They Came For\,  What They Found\,  What They Achieved
DESCRIPTION:Join the Conservation Society for a lecture by Barbara Ortwein 
 on her multi-faceted program.\nhttps://www.saconservation.org/events/german
 sa/
URL:https://www.saconservation.org/events/germansa/
END:VEVENT
END:VCALENDAR