BEGIN:VCALENDAR
VERSION:2.0
PRODID:-//eventon.com NONSGML v1.0//EN
CALSCALE:GREGORIAN
METHOD:PUBLISH
BEGIN:VEVENT
UID:69e73d6f66217
DTSTAMP:20260421T090343Z
DTSTART:20180328T233000Z
DTEND:20180329T045000Z
LOCATION:San Antonio Country Club 4100 N New Braunfels Ave
SUMMARY:Historic Preservation Awards Gala & Presentation
DESCRIPTION:The San Antonio Conservation Society Invites you to attend the 
 Historic Preservation Awards Gala &amp; Presentation Honoring the 2018 Awar
 d Recipients Wednesday\,  March 28\,  2018     San Antonio Country Club 4
 100 N New Braunfels Ave San Antonio\,  TX 78209 Click Learn More to registe
 r for this event\nhttps://www.saconservation.org/events/historic-preservati
 on-awards-gala-presentation/
URL:https://www.saconservation.org/events/historic-preservation-awards-gala-presentation/
END:VEVENT
END:VCALENDAR