BEGIN:VCALENDAR
VERSION:2.0
PRODID:-//eventon.com NONSGML v1.0//EN
CALSCALE:GREGORIAN
METHOD:PUBLISH
BEGIN:VEVENT
UID:69e4e5af29662
DTSTAMP:20260419T142447Z
DTSTART:20240928T150000Z
DTEND:20240928T180000Z
LOCATION:Yturri-Edmunds House Museum 257 Yellowstone St.
SUMMARY:Ernestine Edmunds 150th Birthday Celebration
DESCRIPTION:\nhttps://www.saconservation.org/events/ernestine-edmunds-150th
 -birthday-celebration/
URL:https://www.saconservation.org/events/ernestine-edmunds-150th-birthday-celebration/
END:VEVENT
END:VCALENDAR