BEGIN:VCALENDAR
VERSION:2.0
PRODID:-//eventon.com NONSGML v1.0//EN
CALSCALE:GREGORIAN
METHOD:PUBLISH
BEGIN:VEVENT
UID:69e662032f0e3
DTSTAMP:20260420T172731Z
DTSTART:20240626T223000Z
DTEND:20240627T045000Z
LOCATION:San Antonio River Authority 100 E. Guenther St.
SUMMARY:Society June Membership Meeting
DESCRIPTION:Wednesday\,  June 26th ~ 5:30pm General Membership Meeting “I
 nstallation of Officers &amp; Directors” San Antonio River Authority 100 
 E. Guenther St.\,  San Antonio\,  TX 78204\nhttps://www.saconservation.org/
 events/society-june-membership-meeting-2/
URL:https://www.saconservation.org/events/society-june-membership-meeting-2/
END:VEVENT
END:VCALENDAR