BEGIN:VCALENDAR
VERSION:2.0
PRODID:-//eventon.com NONSGML v1.0//EN
CALSCALE:GREGORIAN
METHOD:PUBLISH
BEGIN:VEVENT
UID:69e73d4a52201
DTSTAMP:20260421T090306Z
DTSTART:20231122T153000Z
DTEND:20231122T213000Z
LOCATION:Wulff House
SUMMARY:Last Day for 2023 Library Research
DESCRIPTION:The San Antonio Conservation Society Foundation library is movi
 ng! We will be closing temporarily to prepare for the move to the Societyâ€
 ™s new headquarters in the Courand House\,  1146 S. Alamo Street\,  in the 
 King William Historic District. The last day the librarian will be able to 
 provide service in[..]\nhttps://www.saconservation.org/events/last-day-for-
 library-research/
URL:https://www.saconservation.org/events/last-day-for-library-research/
END:VEVENT
END:VCALENDAR