BEGIN:VCALENDAR
VERSION:2.0
PRODID:-//eventon.com NONSGML v1.0//EN
CALSCALE:GREGORIAN
METHOD:PUBLISH
BEGIN:VEVENT
UID:69e753f3019e4
DTSTAMP:20260421T103947Z
DTSTART:20230915T160000Z
DTEND:20230915T180000Z
LOCATION:Dress For Success SA 600 N. Frio St.
SUMMARY:Jovita Idar Mural Launch
DESCRIPTION:You are invited to three days of FREE community celebrations or
 ganized by the Mexican American Civil Rights Institute in collaboration wit
 h the U.S. Mint &amp; the Smithsonian Institution to recognize the first Te
 jana featured on a U.S. coin! Jovita Idar was a civil rights trailblazer\, 
  journalist\,  nurse\,  educator\,  and translator[..]\nhttps://www.saconse
 rvation.org/events/jovita-idar-mural-launch/
URL:https://www.saconservation.org/events/jovita-idar-mural-launch/
END:VEVENT
END:VCALENDAR