BEGIN:VCALENDAR
VERSION:2.0
PRODID:-//eventon.com NONSGML v1.0//EN
CALSCALE:GREGORIAN
METHOD:PUBLISH
BEGIN:VEVENT
UID:69e7558906822
DTSTAMP:20260421T104633Z
DTSTART:20191109T160000Z
DTEND:20191109T180000Z
LOCATION:Antioch Missionary Baptist Church 1001 N. Walters
SUMMARY:Norcell Haywood: The Community Architect
DESCRIPTION:Come celebrate the work of the first licensed black architect i
 n San Antonio\,  Norcell Haywood! Haywood championed the community architec
 t concept.   He believed minority architects &#8220;should be able to ben
 eficially serve their profession and community at the same time without hav
 ing to serve one at the expense of the other.&#8221;[..]\nhttps://www.sacon
 servation.org/events/norcell-haywood-the-community-architect/
URL:https://www.saconservation.org/events/norcell-haywood-the-community-architect/
END:VEVENT
END:VCALENDAR